BEGIN:VCALENDAR
VERSION:2.0
PRODID:-//Tukios.com/
BEGIN:VEVENT
UID:8b4dcb8d-9ec9-4833-9473-38096ba68a82@www.themorrisonfuneralhome.com
DTSTAMP:20260423T213458Z
DTSTART:20260427T200000Z
DTEND:20260428T000000Z
SUMMARY:Visitation
DESCRIPTION:
URL:https://www.themorrisonfuneralhome.com/obituaries/kenneth-dougherty
LOCATION: 86 Bartholdi Ave  Butler NJ 07405
GEO:40.9945843;-74.3410369
END:VEVENT
END:VCALENDAR