BEGIN:VCALENDAR
VERSION:2.0
PRODID:-//Tukios.com/
BEGIN:VEVENT
UID:3f05372b-988a-4e05-a88f-5fca2b1d7f5b@www.themorrisonfuneralhome.com
DTSTAMP:20260423T213947Z
DTSTART:20260427T233000Z
DTEND:20260428T003000Z
SUMMARY:Funeral Service
DESCRIPTION:
URL:https://www.themorrisonfuneralhome.com/obituaries/kenneth-dougherty
LOCATION: 86 Bartholdi Ave  Butler NJ 07405
GEO:40.9945843;-74.3410369
END:VEVENT
END:VCALENDAR